
BEGIN:VCALENDAR
VERSION:2.0
PRODID:-//Royal Poker Tour//RPT Championship III//RPT MINI HIGH ROLLER//EN
BEGIN:VEVENT
UID:01000000-4909-3915-a7df-08de9ed4426b
DTSTAMP;TZID=Asia/Hanoi:20260605T190000
DTSTART;TZID=Asia/Hanoi:20260605T190000
DTEND;TZID=Asia/Hanoi:20260605T235959
SUMMARY:RPT MINI HIGH ROLLER
DESCRIPTION:Game: Texas Hold'em (NL)\nBuy-In: 15,000,000 + 1,500,000 VND\nGTD: 300,000,000 VND\nStack: 100,000\nLevels: 25 min\nLate Reg: 10 lvl @ 23:05
LOCATION:Royal Poker Club, Hanoi, Viet Nam
END:VEVENT
END:VCALENDAR
