
BEGIN:VCALENDAR
VERSION:2.0
PRODID:-//World Poker Tour//WPT Australia 2025//OUTBACK SURVIVOR BOUNTY//EN
BEGIN:VEVENT
UID:01000000-a9fe-0a58-e47a-08ddaa688f7a
DTSTAMP;TZID=Oceania/Canberra:20250924T113000
DTSTART;TZID=Oceania/Canberra:20250924T113000
DTEND;TZID=Oceania/Canberra:20250925T235959
SUMMARY:OUTBACK SURVIVOR BOUNTY
DESCRIPTION:Game: Texas Hold'em (NL)\nBuy-In: 1,000 + 150 AUD\nStack: 100,000\nLevels: 30 min
LOCATION:The Star Sydney, Sydney, Australia
END:VEVENT
END:VCALENDAR
