
BEGIN:VCALENDAR
VERSION:2.0
PRODID:-//U Series Championship//U Series Champ. Osaka Q2 2026//Hyper//EN
BEGIN:VEVENT
UID:01000000-3971-2ef2-e613-08de91633986
DTSTAMP;TZID=Asia/Tokyo:20260430T250000
DTSTART;TZID=Asia/Tokyo:20260430T250000
DTEND;TZID=Asia/Tokyo:20260430T235959
SUMMARY:Hyper
DESCRIPTION:Game: Texas Hold'em (NL)\nBuy-In: 10,000 +  JPY\nStack: 15,000\nLevels: 10 min\nLate Reg: @ 2:00
LOCATION:Dojima River Forum, Osaka, Japan
END:VEVENT
END:VCALENDAR
