
BEGIN:VCALENDAR
VERSION:2.0
PRODID:-//World Poker Games//World Poker Games Taiwan 2026//Big O//EN
BEGIN:VEVENT
UID:01000000-4909-3915-60c5-08de9c6bd0f9
DTSTAMP;TZID=Asia/Taipei:20260525T143000
DTSTART;TZID=Asia/Taipei:20260525T143000
DTEND;TZID=Asia/Taipei:20260525T235959
SUMMARY:Big O
DESCRIPTION:Game: Texas Hold'em (NL)\nBuy-In: 6,800 + 1,200 TWD\nStack: 20,000\nLevels: 20 min\nLate Reg: 9 lvl @  17:40
LOCATION:CTP Asia Poker Arena, Taipei City, Taiwan
END:VEVENT
END:VCALENDAR
