
BEGIN:VCALENDAR
VERSION:2.0
PRODID:-//Asian Poker Tour//APT Championship Taipei 2025//Turbo - Freezeout//EN
BEGIN:VEVENT
UID:01000000-a9fe-0a58-8ccf-08de1e2d1f2b
DTSTAMP;TZID=Asia/Taipei:20251129T203000
DTSTART;TZID=Asia/Taipei:20251129T203000
DTEND;TZID=Asia/Taipei:20251129T235959
SUMMARY:Turbo - Freezeout
DESCRIPTION:Game: Texas Hold'em (NL)\nBuy-In: 8,542 + 1,458 TWD\nStack: 20,000\nLevels: 15 min\nLate Reg: @ 22:30
LOCATION:Red Space, Taipei, Taiwan
END:VEVENT
END:VCALENDAR
