
BEGIN:VCALENDAR
VERSION:2.0
PRODID:-//Asian Poker Tour//APT Championship Taipei 2025//Turbo - Women's Event//EN
BEGIN:VEVENT
UID:01000000-a9fe-0a58-cf32-08de1e2ce359
DTSTAMP;TZID=Asia/Taipei:20251129T190000
DTSTART;TZID=Asia/Taipei:20251129T190000
DTEND;TZID=Asia/Taipei:20251129T235959
SUMMARY:Turbo - Women's Event
DESCRIPTION:Game: Texas Hold'em (NL)\nBuy-In: 5,000 + 1,000 TWD\nStack: 20,000\nLevels: 15 min\nLate Reg: @ 21:00
LOCATION:Red Space, Taipei, Taiwan
END:VEVENT
END:VCALENDAR
