
BEGIN:VCALENDAR
VERSION:2.0
PRODID:-//World Poker Games//World Poker Games Taiwan 2026//WPG Mystery Bounty//EN
BEGIN:VEVENT
UID:01000000-4909-3915-54fd-08de9c6bd1c9
DTSTAMP;TZID=Asia/Taipei:20260525T130000
DTSTART;TZID=Asia/Taipei:20260525T130000
DTEND;TZID=Asia/Taipei:20260527T235959
SUMMARY:WPG Mystery Bounty
DESCRIPTION:Featured\nGame: Texas Hold'em (NL)\nBuy-In: 13,500 + 1,500 TWD\nGTD: 2,500,000 TWD\nStack: 30,000
LOCATION:CTP Asia Poker Arena, Taipei City, Taiwan
END:VEVENT
END:VCALENDAR
