
BEGIN:VCALENDAR
VERSION:2.0
PRODID:-//Asian Poker Tour//APT Jeju South Korea 2025//Turbo//EN
BEGIN:VEVENT
UID:01000000-a9fe-0a58-16a2-08ddb488ed70
DTSTAMP;TZID=Asia/Seoul:20250927T201500
DTSTART;TZID=Asia/Seoul:20250927T201500
DTEND;TZID=Asia/Seoul:20250927T235959
SUMMARY:Turbo
DESCRIPTION:Game: Texas Hold'em (NL)\nBuy-In: 600,000 +  KRW\nLate Reg: @ 22:15
LOCATION:LES A Casino, Jeju, South Korea
END:VEVENT
END:VCALENDAR
