
BEGIN:VCALENDAR
VERSION:2.0
PRODID:-//Vietnam Poker Tour//VPT Championship II 2025//SUPER STARS//EN
BEGIN:VEVENT
UID:01000000-a9fe-0a58-0602-08dde64e4149
DTSTAMP;TZID=Asia/Hanoi:20251103T130000
DTSTART;TZID=Asia/Hanoi:20251103T130000
DTEND;TZID=Asia/Hanoi:20251104T235959
SUMMARY:SUPER STARS
DESCRIPTION:Game: null (null)\nBuy-In: 72,000,000 + 8,000,000 VND\nGTD: 2,500,000,000 VND\nStack: 300,000
LOCATION:Corona Casino and Resort, Phú Quốc, Viet Nam
END:VEVENT
END:VCALENDAR
