
BEGIN:VCALENDAR
VERSION:2.0
PRODID:-//Jeju Poker Festival//Jeju Poker Festival 2025//FL Drawmaha Hi//EN
BEGIN:VEVENT
UID:01000000-a9fe-0a58-bb3d-08ddefa3cd93
DTSTAMP;TZID=Asia/Seoul:20251102T200000
DTSTART;TZID=Asia/Seoul:20251102T200000
DTEND;TZID=Asia/Seoul:20251102T235959
SUMMARY:FL Drawmaha Hi
DESCRIPTION:Game: Omaha (FL)\nBuy-In: 425,000 + 75,000 KRW\nStack: 20,000\nLevels: 15 min\nLate Reg: 8 lvl @ 23:10
LOCATION:LES A Casino, Jeju, South Korea
END:VEVENT
END:VCALENDAR
