
BEGIN:VCALENDAR
VERSION:2.0
PRODID:-//Asian Poker Tour//APT Championship Taipei 2025//Women's Event//EN
BEGIN:VEVENT
UID:01000000-a9fe-0a58-a684-08de1e2c1cfb
DTSTAMP;TZID=Asia/Taipei:20251128T17§000
DTSTART;TZID=Asia/Taipei:20251128T17§000
DTEND;TZID=Asia/Taipei:20251128T235959
SUMMARY:Women's Event
DESCRIPTION:Game: Texas Hold'em (NL)\nBuy-In: 6,667 + 1,333 TWD\nStack: 30,000\nLevels: 20 min\nLate Reg: @ 20:50
LOCATION:Red Space, Taipei, Taiwan
END:VEVENT
END:VCALENDAR
