
BEGIN:VCALENDAR
VERSION:2.0
PRODID:-//Poker Dream//Poker Dream 22 Jeju//Ultra Stack//EN
BEGIN:VEVENT
UID:01000000-3971-2ef2-8cad-08de9a1d1547
DTSTAMP;TZID=Asia/Seoul:20260503T130000
DTSTART;TZID=Asia/Seoul:20260503T130000
DTEND;TZID=Asia/Seoul:20260504T235959
SUMMARY:Ultra Stack
DESCRIPTION:Featured\nGame: Texas Hold'em (NL)\nBuy-In: 737,100 + 72,900 KRW\nGTD: 100,000,000 KRW\nLevels: 30 min
LOCATION:LES A Casino, Jeju, South Korea
END:VEVENT
END:VCALENDAR
