
BEGIN:VCALENDAR
VERSION:2.0
PRODID:-//Grand Loyal Poker Championship//Grand Loyal Poker Championship IV - 2026//SUPER HIGHROLLER//EN
BEGIN:VEVENT
UID:01000000-3971-2ef2-f55c-08de826644b5
DTSTAMP;TZID=Asia/Hanoi:20260420T130000
DTSTART;TZID=Asia/Hanoi:20260420T130000
DTEND;TZID=Asia/Hanoi:20260421T235959
SUMMARY:SUPER HIGHROLLER
DESCRIPTION:Featured\nGame: Texas Hold'em (NL)\nBuy-In: 50,000,000 + 5,000,000 VND\nGTD: 2,000,000,000 VND\nStack: 200,000
LOCATION:Grand Loyal Poker Club, Hanoi, Viet Nam
END:VEVENT
END:VCALENDAR
