
BEGIN:VCALENDAR
VERSION:2.0
PRODID:-//Royal Poker Tour//RPT Championship III//RPT SUPER HIGH ROLLER//EN
BEGIN:VEVENT
UID:01000000-4909-3915-7e2d-08de9ed442e4
DTSTAMP;TZID=Asia/Hanoi:20260605T130000
DTSTART;TZID=Asia/Hanoi:20260605T130000
DTEND;TZID=Asia/Hanoi:20260606T235959
SUMMARY:RPT SUPER HIGH ROLLER
DESCRIPTION:Featured\nGame: Texas Hold'em (NL)\nBuy-In: 70,000,000 + 7,000,000 VND\nGTD: 2,500,000,000 VND\nStack: 250,000
LOCATION:Royal Poker Club, Hanoi, Viet Nam
END:VEVENT
END:VCALENDAR
