
BEGIN:VCALENDAR
VERSION:2.0
PRODID:-//World Poker Games//WPG Taiwan 2026//All Star High Roller//EN
BEGIN:VEVENT
UID:01000000-4909-3915-f4db-08de9c6bd156
DTSTAMP;TZID=Asia/Taipei:20260525T130000
DTSTART;TZID=Asia/Taipei:20260525T130000
DTEND;TZID=Asia/Taipei:20260526T235959
SUMMARY:All Star High Roller
DESCRIPTION:Featured\nGame: Texas Hold'em (NL)\nBuy-In:  +  TWD\nGTD: 800,000 TWD\nStack: 150,000
LOCATION:CTP Asia Poker Arena, Taipei City, Taiwan
END:VEVENT
END:VCALENDAR
