
BEGIN:VCALENDAR
VERSION:2.0
PRODID:-//U Series Championship//U Series Champ. Osaka Q2 2026//6max//EN
BEGIN:VEVENT
UID:01000000-3971-2ef2-8b72-08de9163396a
DTSTAMP;TZID=Asia/Tokyo:20260430T200000
DTSTART;TZID=Asia/Tokyo:20260430T200000
DTEND;TZID=Asia/Tokyo:20260430T235959
SUMMARY:6max
DESCRIPTION:Game: Texas Hold'em (NL)\nBuy-In: 20,000 +  JPY\nStack: 25,000\nLevels: 20 min\nLate Reg: @ 22:30
LOCATION:Dojima River Forum, Osaka, Japan
END:VEVENT
END:VCALENDAR
