
BEGIN:VCALENDAR
VERSION:2.0
PRODID:-//Asian Poker Tour//APT Championship Taipei 2025//Women's Event//EN
BEGIN:VEVENT
UID:01000000-a9fe-0a58-3131-08dded566cae
DTSTAMP;TZID=Asia/Taipei:20251127T110000
DTSTART;TZID=Asia/Taipei:20251127T110000
DTEND;TZID=Asia/Taipei:20251127T235959
SUMMARY:Women's Event
DESCRIPTION:Game: Texas Hold'em (NL)\nBuy-In: 6,667 + 1,333 TWD\nStack: 30,000\nLevels: 25 min\nLate Reg: @ 15:40
LOCATION:Red Space, Taipei, Taiwan
END:VEVENT
END:VCALENDAR
