
BEGIN:VCALENDAR
VERSION:2.0
PRODID:-//World Poker Tour//WPT Australia 2025//SYDNEY MONSTER STACK//EN
BEGIN:VEVENT
UID:01000000-a9fe-0a58-48f6-08ddaa688d90
DTSTAMP;TZID=Oceania/Canberra:20250923T114500
DTSTART;TZID=Oceania/Canberra:20250923T114500
DTEND;TZID=Oceania/Canberra:20250924T235959
SUMMARY:SYDNEY MONSTER STACK
DESCRIPTION:Featured\nGame: Texas Hold'em (NL)\nBuy-In: 1,100 + 150 AUD\nStack: 60,000\nLevels: 30 min
LOCATION:The Star Sydney, Sydney, Australia
END:VEVENT
END:VCALENDAR
