
BEGIN:VCALENDAR
VERSION:2.0
PRODID:-//Royal Poker Tour//RPT Championship III//RPT BILLIONAIRE MAKER//EN
BEGIN:VEVENT
UID:01000000-4909-3915-8f5c-08de9ed44246
DTSTAMP;TZID=Asia/Hanoi:20260605T113000
DTSTART;TZID=Asia/Hanoi:20260605T113000
DTEND;TZID=Asia/Hanoi:20260605T235959
SUMMARY:RPT BILLIONAIRE MAKER
DESCRIPTION:Game: Texas Hold'em (NL)\nBuy-In: 5,000,000 + 500,000 VND\nGTD: 500,000,000 VND\nStack: 40,000\nLevels: 35 min\nLate Reg: 12 lvl @ 18:30
LOCATION:Royal Poker Club, Hanoi, Viet Nam
END:VEVENT
END:VCALENDAR
