
BEGIN:VCALENDAR
VERSION:2.0
PRODID:-//PokerStars Live//Manila Megastack 23//PLO Hi-Lo//EN
BEGIN:VEVENT
UID:01000000-a9fe-0a58-a939-08de14aa35e8
DTSTAMP;TZID=Asia/Manila:20251129T150000
DTSTART;TZID=Asia/Manila:20251129T150000
DTEND;TZID=Asia/Manila:20251129T235959
SUMMARY:PLO Hi-Lo
DESCRIPTION:Game: Omaha Hi/Lo (PL)\nBuy-In: 8,800 + 1,200 PHP\nStack: 30,000\nLevels: 25 min\nLate Reg: 6 lvl @ 17:10
LOCATION:Okada Manila, Manila, Philippines
END:VEVENT
END:VCALENDAR
