
BEGIN:VCALENDAR
VERSION:2.0
PRODID:-//World Poker Games//World Poker Games Taiwan 2026//NLH Classic//EN
BEGIN:VEVENT
UID:01000000-4909-3915-f625-08de9c6bd0d5
DTSTAMP;TZID=Asia/Taipei:20260525T110000
DTSTART;TZID=Asia/Taipei:20260525T110000
DTEND;TZID=Asia/Taipei:20260525T235959
SUMMARY:NLH Classic
DESCRIPTION:Game: Texas Hold'em (NL)\nBuy-In: 5,950 + 1,050 TWD\nStack: 20,000\nLevels: 20 min\nLate Reg: 9 lvl @  14:10
LOCATION:CTP Asia Poker Arena, Taipei City, Taiwan
END:VEVENT
END:VCALENDAR
