
BEGIN:VCALENDAR
VERSION:2.0
PRODID:-//Asia Pacific Poker Tour//APPT Championship 2026//Ladies Warm-up//EN
BEGIN:VEVENT
UID:01000000-3971-2ef2-9079-08de90b46a0d
DTSTAMP;TZID=Asia/Manila:20261009T130000
DTSTART;TZID=Asia/Manila:20261009T130000
DTEND;TZID=Asia/Manila:20261009T235959
SUMMARY:Ladies Warm-up
DESCRIPTION:Game: Texas Hold'em (NL)\nBuy-In: 4,224 + 776 PHP\nStack: 30,000\nLevels: 20 min\nLate Reg: @ 15:50
LOCATION:Okada Manila, Manila, Philippines
END:VEVENT
END:VCALENDAR
