
BEGIN:VCALENDAR
VERSION:2.0
PRODID:-//Asian Poker Tour//APT Jeju South Korea 2025//Dealer's Choice//EN
BEGIN:VEVENT
UID:01000000-a9fe-0a58-22dd-08ddb488ec95
DTSTAMP;TZID=Asia/Seoul:20250927T120000
DTSTART;TZID=Asia/Seoul:20250927T120000
DTEND;TZID=Asia/Seoul:20250927T235959
SUMMARY:Dealer's Choice
DESCRIPTION:Game: Texas Hold'em (NL)\nBuy-In: 700,000 +  KRW\nLate Reg: @ 16:00
LOCATION:LES A Casino, Jeju, South Korea
END:VEVENT
END:VCALENDAR
