
BEGIN:VCALENDAR
VERSION:2.0
PRODID:-//Asian Poker Tour//APT Championship Taipei 2025//Women's Event//EN
BEGIN:VEVENT
UID:01000000-a9fe-0a58-60a4-08dded541ab1
DTSTAMP;TZID=Asia/Taipei:20251126T154500
DTSTART;TZID=Asia/Taipei:20251126T154500
DTEND;TZID=Asia/Taipei:20251126T235959
SUMMARY:Women's Event
DESCRIPTION:Game: Texas Hold'em (NL)\nBuy-In: 9,396 + 1,604 TWD\nStack: 30,000\nLevels: 20 min\nLate Reg: @ 19:35
LOCATION:Red Space, Taipei, Taiwan
END:VEVENT
END:VCALENDAR
