
BEGIN:VCALENDAR
VERSION:2.0
PRODID:-//Asian Poker Tour//APT Jeju South Korea 2025//Women's Event//EN
BEGIN:VEVENT
UID:01000000-a9fe-0a58-5386-08ddb488ec5e
DTSTAMP;TZID=Asia/Seoul:20250927T114500
DTSTART;TZID=Asia/Seoul:20250927T114500
DTEND;TZID=Asia/Seoul:20250927T235959
SUMMARY:Women's Event
DESCRIPTION:Game: Texas Hold'em (NL)\nBuy-In: 300,000 +  KRW\nLate Reg: @ 16:25
LOCATION:LES A Casino, Jeju, South Korea
END:VEVENT
END:VCALENDAR
