
BEGIN:VCALENDAR
VERSION:2.0
PRODID:-//U Series Of Poker//USOP Japan 2025 Osaka//Win the Button//EN
BEGIN:VEVENT
UID:01000000-a9fe-0a58-1781-08dde944d66c
DTSTAMP;TZID=Asia/Tokyo:20251003T220000
DTSTART;TZID=Asia/Tokyo:20251003T220000
DTEND;TZID=Asia/Tokyo:20251003T235959
SUMMARY:Win the Button
DESCRIPTION:Game: Texas Hold'em (NL)\nBuy-In: 15,000 +  JPY\nStack: 25,000\nLevels: 20 min\nLate Reg: @ 24:10:00
LOCATION:Dojima River Forum, Osaka, Japan
END:VEVENT
END:VCALENDAR
