
BEGIN:VCALENDAR
VERSION:2.0
PRODID:-//PokerStars Live//Manila Megastack 23//Super Knockout [₱25K Bounty]//EN
BEGIN:VEVENT
UID:01000000-a9fe-0a58-97f0-08de14aa35b3
DTSTAMP;TZID=Asia/Manila:20251129T140000
DTSTART;TZID=Asia/Manila:20251129T140000
DTEND;TZID=Asia/Manila:20251129T235959
SUMMARY:Super Knockout [₱25K Bounty]
DESCRIPTION:Game: Texas Hold'em (NL)\nBuy-In: 45,000 + 5,000 PHP\nStack: 10,000\nLevels: 15 min\nLate Reg: 10 lvl @ 19:20
LOCATION:Okada Manila, Manila, Philippines
END:VEVENT
END:VCALENDAR
