
BEGIN:VCALENDAR
VERSION:2.0
PRODID:-//Poker Dream//Poker Dream 20 Malaysia//Senior Event (Age 50+)//EN
BEGIN:VEVENT
UID:01000000-a9fe-0a58-b920-08de3fb45df6
DTSTAMP;TZID=Asia/Kuala_Lumpur:20260131T160000
DTSTART;TZID=Asia/Kuala_Lumpur:20260131T160000
DTEND;TZID=Asia/Kuala_Lumpur:20260131T235959
SUMMARY:Senior Event (Age 50+)
DESCRIPTION:Game: Texas Hold'em (NL)\nBuy-In: 629 + 171 MYR\nStack: 15,000\nLevels: 15 min\nLate Reg: 7 lvl @ 18:00
LOCATION:Resorts World Genting, Malaysia, Pahang, Malaysia
END:VEVENT
END:VCALENDAR
