
BEGIN:VCALENDAR
VERSION:2.0
PRODID:-//European Poker Tour//EPT Prague 2025//Qualifier to €1,650 - (WYS@50K)//EN
BEGIN:VEVENT
UID:01000000-a9fe-0a58-c391-08de2ffbb9e1
DTSTAMP;TZID=Europe/Prague:20251204T160000
DTSTART;TZID=Europe/Prague:20251204T160000
DTEND;TZID=Europe/Prague:20251204T235959
SUMMARY:Qualifier to €1,650 - (WYS@50K)
DESCRIPTION:Game: Texas Hold'em (NL)\nBuy-In: 330 + 40 EUR\nStack: 10,000\nLevels: 15 min\nLate Reg: @ 19:00
LOCATION:King’s Casino Prague, Prague, Czech Republic
END:VEVENT
END:VCALENDAR
