
BEGIN:VCALENDAR
VERSION:2.0
PRODID:-//Poker Dream//Poker Dream 22 Jeju//PL Omaha - Turbo//EN
BEGIN:VEVENT
UID:01000000-3971-2ef2-f9bf-08de9a1d1485
DTSTAMP;TZID=Asia/Seoul:20260502T213000
DTSTART;TZID=Asia/Seoul:20260502T213000
DTEND;TZID=Asia/Seoul:20260502T235959
SUMMARY:PL Omaha - Turbo
DESCRIPTION:Game: Omaha (PL)\nBuy-In: 356,000 + 44,000 KRW\nStack: 15,000\nLevels: 15 min\nLate Reg: 7 lvl @ 23:30
LOCATION:LES A Casino, Jeju, South Korea
END:VEVENT
END:VCALENDAR
