
BEGIN:VCALENDAR
VERSION:2.0
PRODID:-//Poker Dream//Poker Dream 19 Malaysia//PL Omaha - Hyper Turbo//EN
BEGIN:VEVENT
UID:01000000-a9fe-0a58-c891-08ddf9341a17
DTSTAMP;TZID=Asia/Kuala_Lumpur:20251025T200000
DTSTART;TZID=Asia/Kuala_Lumpur:20251025T200000
DTEND;TZID=Asia/Kuala_Lumpur:20251025T235959
SUMMARY:PL Omaha - Hyper Turbo
DESCRIPTION:Game: Omaha (PL)\nBuy-In: 786 + 214 MYR\nStack: 15,000\nLevels: 10 min\nLate Reg: 7 lvl @ 21:25
LOCATION:Resorts World Genting, Malaysia, Pahang, Malaysia
END:VEVENT
END:VCALENDAR
