
BEGIN:VCALENDAR
VERSION:2.0
PRODID:-//Asia Pacific Poker Tour//APPT Championship 2026//Megastack High Roller//EN
BEGIN:VEVENT
UID:01000000-3971-2ef2-cb65-08de90b46a18
DTSTAMP;TZID=Asia/Manila:20261009T130000
DTSTART;TZID=Asia/Manila:20261009T130000
DTEND;TZID=Asia/Manila:20261009T235959
SUMMARY:Megastack High Roller
DESCRIPTION:Game: Texas Hold'em (NL)\nBuy-In: 88,320 + 11,680 PHP\nStack: 150,000\nLevels: 30 min\nLate Reg: @ 19:15
LOCATION:Okada Manila, Manila, Philippines
END:VEVENT
END:VCALENDAR
