
BEGIN:VCALENDAR
VERSION:2.0
PRODID:-//Danang Poker Tour//NCPC Poker Championship 2025//5-Card PLO - Turbo//EN
BEGIN:VEVENT
UID:01000000-a9fe-0a58-7544-08de1c809280
DTSTAMP;TZID=Asia/Hanoi:20251124T190000
DTSTART;TZID=Asia/Hanoi:20251124T190000
DTEND;TZID=Asia/Hanoi:20251124T235959
SUMMARY:5-Card PLO - Turbo
DESCRIPTION:Game: Omaha (PL)\nBuy-In: 4,400,000 + 600,000 VND\nStack: 25,000\nLevels: 15 min\nLate Reg: 9 lvl @ 21:30
LOCATION:Golden Bay Hotel, Da Nang, Viet Nam
END:VEVENT
END:VCALENDAR
