
BEGIN:VCALENDAR
VERSION:2.0
PRODID:-//Poker Dream//Poker Dream 22 Jeju//Mystery Bounty - Turbo//EN
BEGIN:VEVENT
UID:01000000-3971-2ef2-dadf-08de9a1d147a
DTSTAMP;TZID=Asia/Seoul:20260502T210000
DTSTART;TZID=Asia/Seoul:20260502T210000
DTEND;TZID=Asia/Seoul:20260502T235959
SUMMARY:Mystery Bounty - Turbo
DESCRIPTION:Game: Texas Hold'em (NL)\nBuy-In: 728,000 + 72,000 KRW\nStack: 15,000\nLevels: 15 min\nLate Reg: 7 lvl @ 23:00
LOCATION:LES A Casino, Jeju, South Korea
END:VEVENT
END:VCALENDAR
