
BEGIN:VCALENDAR
VERSION:2.0
PRODID:-//PokerStars Live//Manila Megastack 23//Mystery Bounty//EN
BEGIN:VEVENT
UID:01000000-a9fe-0a58-4d4b-08de14aa3726
DTSTAMP;TZID=Asia/Manila:20251129T130000
DTSTART;TZID=Asia/Manila:20251129T130000
DTEND;TZID=Asia/Manila:20251130T235959
SUMMARY:Mystery Bounty
DESCRIPTION:Featured\nGame: Texas Hold'em (NL)\nBuy-In: 17,600 + 2,400 PHP\nGTD: 2,000,000 PHP\nStack: 30,000\nLevels: 30 min
LOCATION:Okada Manila, Manila, Philippines
END:VEVENT
END:VCALENDAR
