
BEGIN:VCALENDAR
VERSION:2.0
PRODID:-//Poker Dream//Poker Dream Malaysia 15//Deepstack Turbo//EN
BEGIN:VEVENT
UID:01000000-a9fe-0a58-5eb2-08dd2f1707e3
DTSTAMP;TZID=Asia/Kuala_Lumpur:20250119T150000
DTSTART;TZID=Asia/Kuala_Lumpur:20250119T150000
DTEND;TZID=Asia/Kuala_Lumpur:20250119T235959
SUMMARY:Deepstack Turbo
DESCRIPTION:Game: Texas Hold'em (NL)\nBuy-In: 629 + 171 MYR
LOCATION:Resorts World Genting, Malaysia, Pahang, Malaysia
END:VEVENT
END:VCALENDAR
