
BEGIN:VCALENDAR
VERSION:2.0
PRODID:-//Taiwan Millions Tournament//TMT Championship 2025//Big O//EN
BEGIN:VEVENT
UID:01000000-a9fe-0a58-5a6f-08de01a6f00b
DTSTAMP;TZID=Asia/Taipei:20251020T210000
DTSTART;TZID=Asia/Taipei:20251020T210000
DTEND;TZID=Asia/Taipei:20251020T235959
SUMMARY:Big O
DESCRIPTION:Game: Texas Hold'em (NL)\nBuy-In: 2,975 + 525 TWD\nStack: 10,000\nLevels: 15 min\nLate Reg: 7 lvl @ 22:55
LOCATION:CTP Asia Poker Arena, Taipei City, Taiwan
END:VEVENT
END:VCALENDAR
