
BEGIN:VCALENDAR
VERSION:2.0
PRODID:-//Asian Poker Tour//APT Championship Taipei 2025//Hyper Turbo - NLH//EN
BEGIN:VEVENT
UID:01000000-a9fe-0a58-e211-08dded512f71
DTSTAMP;TZID=Asia/Taipei:20251124T213000
DTSTART;TZID=Asia/Taipei:20251124T213000
DTEND;TZID=Asia/Taipei:20251124T235959
SUMMARY:Hyper Turbo - NLH
DESCRIPTION:Game: Texas Hold'em (NL)\nBuy-In: 8,542 + 1,458 TWD\nStack: 20,000\nLevels: 10 min\nLate Reg: @ 22:55
LOCATION:Red Space, Taipei, Taiwan
END:VEVENT
END:VCALENDAR
