
BEGIN:VCALENDAR
VERSION:2.0
PRODID:-//U Series Of Poker//Grand Loyal Poker Championship - Hanoi 2025//SUNDAY MEGASTACK //EN
BEGIN:VEVENT
UID:01000000-a9fe-0a58-c46e-08ddef65a23f
DTSTAMP;TZID=Asia/Hanoi:20251012T110000
DTSTART;TZID=Asia/Hanoi:20251012T110000
DTEND;TZID=Asia/Hanoi:20251012T235959
SUMMARY:SUNDAY MEGASTACK 
DESCRIPTION:Game: Texas Hold'em (NL)\nBuy-In: 8,000,000 + 1,000,000 VND\nGTD: 800,000,000 VND\nStack: 40,000\nLevels: 30 min\nLate Reg: 11 lvl @ 16:30
LOCATION:Grand Loyal Poker Club, Hanoi, Viet Nam
END:VEVENT
END:VCALENDAR
