
BEGIN:VCALENDAR
VERSION:2.0
PRODID:-//World Poker Games//WPG Taiwan 2026//PLO- Double Board Bomb Pot//EN
BEGIN:VEVENT
UID:01000000-4909-3915-5b98-08de9c6bd099
DTSTAMP;TZID=Asia/Taipei:20260524T170000
DTSTART;TZID=Asia/Taipei:20260524T170000
DTEND;TZID=Asia/Taipei:20260524T235959
SUMMARY:PLO- Double Board Bomb Pot
DESCRIPTION:Game: Omaha (PL)\nBuy-In: 6,800 + 1,200 TWD\nStack: 20,000\nLevels: 20 min\nLate Reg: 9 lvl @  20:10
LOCATION:CTP Asia Poker Arena, Taipei City, Taiwan
END:VEVENT
END:VCALENDAR
