
BEGIN:VCALENDAR
VERSION:2.0
PRODID:-//Triton Poker Series//Triton One 2025//One Night NLH - 8 Handed//EN
BEGIN:VEVENT
UID:01000000-a9fe-0a58-ce50-08ddbe1b644a
DTSTAMP;TZID=Asia/Seoul:20250905T220000
DTSTART;TZID=Asia/Seoul:20250905T220000
DTEND;TZID=Asia/Seoul:20250905T235959
SUMMARY:One Night NLH - 8 Handed
DESCRIPTION:Game: Texas Hold'em (NL)\nBuy-In: 2,000 +  USD
LOCATION:Landing Casino Jeju, Jeju, South Korea
END:VEVENT
END:VCALENDAR
