
BEGIN:VCALENDAR
VERSION:2.0
PRODID:-//Taiwan Millions Tournament//TMT Championship 2025//NLH Head Hunter//EN
BEGIN:VEVENT
UID:01000000-a9fe-0a58-2096-08de01a6eed0
DTSTAMP;TZID=Asia/Taipei:20251020T130000
DTSTART;TZID=Asia/Taipei:20251020T130000
DTEND;TZID=Asia/Taipei:20251020T235959
SUMMARY:NLH Head Hunter
DESCRIPTION:Game: Texas Hold'em (NL)\nBuy-In: 4,250 + 750 TWD\nStack: 20,000\nLevels: 20 min\nLate Reg: 6 lvl @ 15:10
LOCATION:CTP Asia Poker Arena, Taipei City, Taiwan
END:VEVENT
END:VCALENDAR
