
BEGIN:VCALENDAR
VERSION:2.0
PRODID:-//Poker Dream//Poker Dream Malaysia 15//Mystery Bounty - Hyper Turbo//EN
BEGIN:VEVENT
UID:01000000-a9fe-0a58-7c1f-08dd2f1707e4
DTSTAMP;TZID=Asia/Kuala_Lumpur:20250119T235900
DTSTART;TZID=Asia/Kuala_Lumpur:20250119T235900
DTEND;TZID=Asia/Kuala_Lumpur:20250119T235959
SUMMARY:Mystery Bounty - Hyper Turbo
DESCRIPTION:Game: Texas Hold'em (NL)\nBuy-In: 629 + 171 MYR
LOCATION:Resorts World Genting, Malaysia, Pahang, Malaysia
END:VEVENT
END:VCALENDAR
