
BEGIN:VCALENDAR
VERSION:2.0
PRODID:-//Asian Poker Tour//APT Championship Taipei 2025//Women's Event//EN
BEGIN:VEVENT
UID:01000000-a9fe-0a58-055b-08dded512f72
DTSTAMP;TZID=Asia/Taipei:20251124T110000
DTSTART;TZID=Asia/Taipei:20251124T110000
DTEND;TZID=Asia/Taipei:20251124T235959
SUMMARY:Women's Event
DESCRIPTION:Game: Texas Hold'em (NL)\nBuy-In: 9,396 + 1,601 TWD\nStack: 30,000\nLevels: 25 min\nLate Reg: @ 15:40
LOCATION:Red Space, Taipei, Taiwan
END:VEVENT
END:VCALENDAR
