
BEGIN:VCALENDAR
VERSION:2.0
PRODID:-//Asian Poker Tour//APT Championship Taipei 2025//Women's Event//EN
BEGIN:VEVENT
UID:01000000-a9fe-0a58-86b3-08dded4ef26f
DTSTAMP;TZID=Asia/Taipei:20251123T143000
DTSTART;TZID=Asia/Taipei:20251123T143000
DTEND;TZID=Asia/Taipei:20251123T235959
SUMMARY:Women's Event
DESCRIPTION:Game: Texas Hold'em (NL)\nBuy-In: 12,969 + 2,031 TWD\nStack: 30,000\nLevels: 20 min\nLate Reg: @ 18:20
LOCATION:Red Space, Taipei, Taiwan
END:VEVENT
END:VCALENDAR
