
BEGIN:VCALENDAR
VERSION:2.0
PRODID:-//Asia Pacific Poker Tour//APPT Championship 2026//Flipout to Championship MEGA Qualifier//EN
BEGIN:VEVENT
UID:01000000-3971-2ef2-1086-08de90b46c92
DTSTAMP;TZID=Asia/Manila:20261014T140000
DTSTART;TZID=Asia/Manila:20261014T140000
DTEND;TZID=Asia/Manila:20261014T235959
SUMMARY:Flipout to Championship MEGA Qualifier
DESCRIPTION:Game: Texas Hold'em (NL)\nBuy-In: 1,824 + 176 PHP\nStack: 1,000\nLevels: 15 min\nLate Reg: @ 14:05
LOCATION:Okada Manila, Manila, Philippines
END:VEVENT
END:VCALENDAR
