
BEGIN:VCALENDAR
VERSION:2.0
PRODID:-//World Poker Games//World Poker Games Taiwan 2026//Queen of WPG//EN
BEGIN:VEVENT
UID:01000000-4909-3915-8db2-08de9c6bd08d
DTSTAMP;TZID=Asia/Taipei:20260524T150000
DTSTART;TZID=Asia/Taipei:20260524T150000
DTEND;TZID=Asia/Taipei:20260524T235959
SUMMARY:Queen of WPG
DESCRIPTION:Game: Texas Hold'em (NL)\nBuy-In: 5,100 + 900 TWD\nStack: 20,000\nLevels: 20 min\nLate Reg: 9 lvl @  18:10
LOCATION:CTP Asia Poker Arena, Taipei City, Taiwan
END:VEVENT
END:VCALENDAR
