
BEGIN:VCALENDAR
VERSION:2.0
PRODID:-//U Series Championship//U Series Champ. Osaka Q2 2026//Megastack//EN
BEGIN:VEVENT
UID:01000000-3971-2ef2-a042-08de9163393b
DTSTAMP;TZID=Asia/Tokyo:20260430T130000
DTSTART;TZID=Asia/Tokyo:20260430T130000
DTEND;TZID=Asia/Tokyo:20260430T235959
SUMMARY:Megastack
DESCRIPTION:Game: Texas Hold'em (NL)\nBuy-In: 22,000 +  JPY\nStack: 50,000\nLevels: 25 min\nLate Reg: @ 16:40
LOCATION:Dojima River Forum, Osaka, Japan
END:VEVENT
END:VCALENDAR
