
BEGIN:VCALENDAR
VERSION:2.0
PRODID:-//Asia Pacific Poker Tour//APPT Championship 2026//Megastack//EN
BEGIN:VEVENT
UID:01000000-3971-2ef2-67ca-08de90b469f6
DTSTAMP;TZID=Asia/Manila:20261009T110000
DTSTART;TZID=Asia/Manila:20261009T110000
DTEND;TZID=Asia/Manila:20261009T235959
SUMMARY:Megastack
DESCRIPTION:Game: Texas Hold'em (NL)\nBuy-In: 8,448 + 1,552 PHP\nStack: 30,000\nLevels: 20 min\nLate Reg: @ 14:00
LOCATION:Okada Manila, Manila, Philippines
END:VEVENT
END:VCALENDAR
