
BEGIN:VCALENDAR
VERSION:2.0
PRODID:-//Poker Dream//Poker Dream 22 Jeju//Couples Event//EN
BEGIN:VEVENT
UID:01000000-3971-2ef2-1c5e-08de9a1d1436
DTSTAMP;TZID=Asia/Seoul:20260502T150000
DTSTART;TZID=Asia/Seoul:20260502T150000
DTEND;TZID=Asia/Seoul:20260502T235959
SUMMARY:Couples Event
DESCRIPTION:Game: Texas Hold'em (NL)\nBuy-In: 910,000 + 90,000 KRW\nStack: 30,000\nLevels: 20 min\nLate Reg: 8 lvl @ 17:55
LOCATION:LES A Casino, Jeju, South Korea
END:VEVENT
END:VCALENDAR
